BEGIN:VCALENDAR
VERSION:2.0
PRODID:-//DP Pro Event Calendar//3.0.2//EN
BEGIN:VEVENT
UID:d7798a48-d47d-498a-8bd5-6fb02c86b911
DTSTART;TZID=America/Chicago:20201105T190000
DTEND;TZID=America/Chicago:20201105T190000
DTSTAMP:20201030T182804Z
SUMMARY:2020 Educational Programs Orientation (Nov 5)
DESCRIPTION:\r \n &nbsp\;\r \n [button size='medium' style='' text='REGISTER FOR EDUCATIONAL PROGRAMS ORIENTATION' icon='' icon_color='' link='https://zoom.us/meeting/register/tJYrfumurDspGtaZA2LFpeKNTiycYnKbO4VJ' target='_blank' color='#ffffff' hover_color='#910811' border_color='' hover_border_color='' background_color='#910811' hover_background_color='#ffffff' font_style='' font_weight='' text_align='' margin='']
LOCATION:Zoom
URL:https://zoom.us/meeting/register/tJYrfumurDspGtaZA2LFpeKNTiycYnKbO4VJ
END:VEVENT
END:VCALENDAR