BEGIN:VCALENDAR
VERSION:2.0
PRODID:-//DP Pro Event Calendar//3.0.2//EN
BEGIN:VEVENT
UID:b114b48c-8df6-4456-a38f-eafe4ff88481
DTSTART;TZID=America/Chicago:20231202T083000
DTEND;TZID=America/Chicago:20231202T120000
DTSTAMP:20231115T234318Z
SUMMARY:2023 World AIDS Day 5K Walk
DESCRIPTION:
LOCATION:
URL:https://forms.gle/TLxqScCVYn6s7CBT6
END:VEVENT
END:VCALENDAR